Workbook

Sheet 1 Matriz
A1: MATRIZ EJERCICIO × COMPETENCIA — Supervisor de turno (promoción interna)
A2: Marque con 1 qué competencia se observa en cada ejercicio. Regla de esta plantilla: cada competencia en al menos 2 ejercicios.
A4: Ejercicio | B4: Formato | C4: Organización del trabajo | D4: Análisis y toma de decisiones | E4: Retroalimentación y manejo de personas | F4: Comunicación
A5: Bandeja de entrada del lunes | B5: Individual, 45 minutos, escrito | C5: 1 | D5: 1
A6: Conversación de retroalimentación | B6: Simulación uno a uno, 20 minutos | E6: 1 | F6: 1
A7: Reunión de arranque de turno | B7: Grupal, 30 minutos | C7: 1 | D7: 1 | F7: 1
A8: Caso de un reclamo repetido | B8: Individual, 30 minutos y 10 de exposición | D8: 1 | E8: 1
A9: Ejercicios que observan la competencia | C9: =SUM(C5:C8) | D9: =SUM(D5:D8) | E9: =SUM(E5:E8) | F9: =SUM(F5:F8)
A10: ¿Cumple la regla? | C10: =IF(C9>=2,"Sí","No") | D10: =IF(D9>=2,"Sí","No") | E10: =IF(E9>=2,"Sí","No") | F10: =IF(F9>=2,"Sí","No")

Sheet 2 Observaciones
A1: PUNTAJES POR OBSERVADOR (escala 1-4 con anclas de conducta)
A2: Una fila por observador, ejercicio y competencia. Ejemplo demostrativo en cursiva. Diferencia de 2 o más en un ejercicio = discutir antes de consolidar.
A4: Observador | B4: Ejercicio | C4: Competencia | D4: Nivel (1-4) | E4: Evidencia anotada
A5: Observador 1 | B5: Bandeja de entrada del lunes | C5: Organización del trabajo | D5: 3
A6: Observador 2 | B6: Bandeja de entrada del lunes | C6: Organización del trabajo | D6: 3
A7: Observador 1 | B7: Bandeja de entrada del lunes | C7: Análisis y toma de decisiones | D7: 2
A8: Observador 2 | B8: Bandeja de entrada del lunes | C8: Análisis y toma de decisiones | D8: 3
A9: Observador 1 | B9: Conversación de retroalimentación | C9: Retroalimentación y manejo de personas | D9: 4
A10: Observador 2 | B10: Conversación de retroalimentación | C10: Retroalimentación y manejo de personas | D10: 2
A11: Observador 1 | B11: Conversación de retroalimentación | C11: Comunicación | D11: 3
A12: Observador 2 | B12: Conversación de retroalimentación | C12: Comunicación | D12: 3
A13: Observador 1 | B13: Reunión de arranque de turno | C13: Comunicación | D13: 3
A14: Observador 2 | B14: Reunión de arranque de turno | C14: Comunicación | D14: 4
A15: Observador 1 | B15: Reunión de arranque de turno | C15: Organización del trabajo | D15: 3
A16: Observador 2 | B16: Reunión de arranque de turno | C16: Organización del trabajo | D16: 2
... A22: Observador 2 | B22: Caso de un reclamo repetido | C22: Retroalimentación y manejo de personas | D22: 3

Sheet 3 Consolidación
A1: CONSOLIDACIÓN POR COMPETENCIA
A2: Primero se promedian los observadores dentro de cada ejercicio; luego los ejercicios entre sí, con el mismo peso. Columnas grises: automáticas.
A4: Competencia | B4: Bandeja de entrada del lunes | C4: Conversación de retroalimentación | D4: Reunión de arranque de turno | E4: Caso de un reclamo repetido | F4: Promedio | G4: Ejercicios | H4: Discrepancias (≥ 2)
A5: Organización del trabajo | B5: =IF(COUNTIFS('2 Observaciones'!$B$5:$B$84,"Bandeja de entrada del lunes",'2 Observaciones'!$C$5:$C$84,$A5)=0,"",AVERAGEIFS('2 Observaciones'!$D$5:$D$84,'2 Observaciones'!$B$5:$B$84,"Bandeja de entrada del lunes",'2 Observaciones'!$C$5:$C$84,$A5)) | C5: =IF(COUNTIFS('2 Observaciones'!$B$5:$B$84,"Conversación de retroalimentación",'2 Observaciones'!$C$5:$C$84,$A5)=0,"",AVERAGEIFS('2 Observaciones'!$D$5:$D$84,'2 Observaciones'!$B$5:$B$84,"Conversación de retroalimentación",'2 Observaciones'!$C$5:$C$84,$A5)) | D5: =IF(COUNTIFS('2 Observaciones'!$B$5:$B$84,"Reunión de arranque de turno",'2 Observaciones'!$C$5:$C$84,$A5)=0,"",AVERAGEIFS('2 Observaciones'!$D$5:$D$84,'2 Observaciones'!$B$5:$B$84,"Reunión de arranque de turno",'2 Observaciones'!$C$5:$C$84,$A5)) | E5: =IF(COUNTIFS('2 Observaciones'!$B$5:$B$84,"Caso de un reclamo repetido",'2 Observaciones'!$C$5:$C$84,$A5)=0,"",AVERAGEIFS('2 Observaciones'!$D$5:$D$84,'2 Observaciones'!$B$5:$B$84,"Caso de un reclamo repetido",'2 Observaciones'!$C$5:$C$84,$A5)) | F5: =IF(COUNT(B5:E5)=0,"",ROUND(AVERAGE(B5:E5),2)) | G5: =COUNT(B5:E5) | H5: =IF(COUNTIFS('2 Observaciones'!$B$5:$B$84,"Bandeja de entrada del lunes",'2 Observaciones'!$C$5:$C$84,$A5)=0,0,IF(_xlfn.MAXIFS('2 Observaciones'!$D$5:$D$84,'2 Observaciones'!$B$5:$B$84,"Bandeja de entrada del lunes",'2 Observaciones'!$C$5:$C$84,$A5)-_xlfn.MINIFS('2 Observaciones'!$D$5:$D$84,'2 Observaciones'!$B$5:$B$84,"Bandeja de entrada del lunes",'2 Observaciones'!$C$5:$C$84,$A5)>=2,1,0))+IF(COUNTIFS('2 Observaciones'!$B$5:$B$84,"Conversación de retroalimentación",'2 Observaciones'!$C$5:$C$84,$A5)=0,0,IF(_xlfn.MAXIFS('2 Observaciones'!$D$5:$D$84,'2 Observaciones'!$B$5:$B$84,"Conversación de retroalimentación",'2 Observaciones'!$C$5:$C$84,$A5)-_xlfn.MINIFS('2 Observaciones'!$D$5:$D$84,'2 Observaciones'!$B$5:$B$84,"Conversación de retroalimentación",'2 Observaciones'!$C$5:$C$84,$A5)>=2,1,0))+IF(COUNTIFS('2 Observaciones'!$B$5:$B$84,"Reunión de arranque de turno",'2 Observaciones'!$C$5:$C$84,$A5)=0,0,IF(_xlfn.MAXIFS('2 Observaciones'!$D$5:$D$84,'2 Observaciones'!$B$5:$B$84,"Reunión de arranque de turno",'2 Observaciones'!$C$5:$C$84,$A5)-_xlfn.MINIFS('2 Observaciones'!$D$5:$D$84,'2 Observaciones'!$B$5:$B$84,"Reunión de arranque de turno",'2 Observaciones'!$C$5:$C$84,$A5)>=2,1,0))+IF(COUNTIFS('2 Observaciones'!$B$5:$B$84,"Caso de un reclamo repetido",'2 Observaciones'!$C$5:$C$84,$A5)=0,0,IF(_xlfn.MAXIFS('2 Observaciones'!$D$5:$D$84,'2 Observaciones'!$B$5:$B$84,"Caso de un reclamo repetido",'2 Observaciones'!$C$5:$C$84,$A5)-_xlfn.MINIFS('2 Observaciones'!$D$5:$D$84,'2 Observaciones'!$B$5:$B$84,"Caso de un reclamo repetido",'2 Observaciones'!$C$5:$C$84,$A5)>=2,1,0))
A6: Análisis y toma de decisiones | B6: =IF(COUNTIFS('2 Observaciones'!$B$5:$B$84,"Bandeja de entrada del lunes",'2 Observaciones'!$C$5:$C$84,$A6)=0,"",AVERAGEIFS('2 Observaciones'!$D$5:$D$84,'2 Observaciones'!$B$5:$B$84,"Bandeja de entrada del lunes",'2 Observaciones'!$C$5:$C$84,$A6)) | C6: =IF(COUNTIFS('2 Observaciones'!$B$5:$B$84,"Conversación de retroalimentación",'2 Observaciones'!$C$5:$C$84,$A6)=0,"",AVERAGEIFS('2 Observaciones'!$D$5:$D$84,'2 Observaciones'!$B$5:$B$84,"Conversación de retroalimentación",'2 Observaciones'!$C$5:$C$84,$A6)) | D6: =IF(COUNTIFS('2 Observaciones'!$B$5:$B$84,"Reunión de arranque de turno",'2 Observaciones'!$C$5:$C$84,$A6)=0,"",AVERAGEIFS('2 Observaciones'!$D$5:$D$84,'2 Observaciones'!$B$5:$B$84,"Reunión de arranque de turno",'2 Observaciones'!$C$5:$C$84,$A6)) | E6: =IF(COUNTIFS('2 Observaciones'!$B$5:$B$84,"Caso de un reclamo repetido",'2 Observaciones'!$C$5:$C$84,$A6)=0,"",AVERAGEIFS('2 Observaciones'!$D$5:$D$84,'2 Observaciones'!$B$5:$B$84,"Caso de un reclamo repetido",'2 Observaciones'!$C$5:$C$84,$A6)) | F6: =IF(COUNT(B6:E6)=0,"",ROUND(AVERAGE(B6:E6),2)) | G6: =COUNT(B6:E6) | H6: =IF(COUNTIFS('2 Observaciones'!$B$5:$B$84,"Bandeja de entrada del lunes",'2 Observaciones'!$C$5:$C$84,$A6)=0,0,IF(_xlfn.MAXIFS('2 Observaciones'!$D$5:$D$84,'2 Observaciones'!$B$5:$B$84,"Bandeja de entrada del lunes",'2 Observaciones'!$C$5:$C$84,$A6)-_xlfn.MINIFS('2 Observaciones'!$D$5:$D$84,'2 Observaciones'!$B$5:$B$84,"Bandeja de entrada del lunes",'2 Observaciones'!$C$5:$C$84,$A6)>=2,1,0))+IF(COUNTIFS('2 Observaciones'!$B$5:$B$84,"Conversación de retroalimentación",'2 Observaciones'!$C$5:$C$84,$A6)=0,0,IF(_xlfn.MAXIFS('2 Observaciones'!$D$5:$D$84,'2 Observaciones'!$B$5:$B$84,"Conversación de retroalimentación",'2 Observaciones'!$C$5:$C$84,$A6)-_xlfn.MINIFS('2 Observaciones'!$D$5:$D$84,'2 Observaciones'!$B$5:$B$84,"Conversación de retroalimentación",'2 Observaciones'!$C$5:$C$84,$A6)>=2,1,0))+IF(COUNTIFS('2 Observaciones'!$B$5:$B$84,"Reunión de arranque de turno",'2 Observaciones'!$C$5:$C$84,$A6)=0,0,IF(_xlfn.MAXIFS('2 Observaciones'!$D$5:$D$84,'2 Observaciones'!$B$5:$B$84,"Reunión de arranque de turno",'2 Observaciones'!$C$5:$C$84,$A6)-_xlfn.MINIFS('2 Observaciones'!$D$5:$D$84,'2 Observaciones'!$B$5:$B$84,"Reunión de arranque de turno",'2 Observaciones'!$C$5:$C$84,$A6)>=2,1,0))+IF(COUNTIFS('2 Observaciones'!$B$5:$B$84,"Caso de un reclamo repetido",'2 Observaciones'!$C$5:$C$84,$A6)=0,0,IF(_xlfn.MAXIFS('2 Observaciones'!$D$5:$D$84,'2 Observaciones'!$B$5:$B$84,"Caso de un reclamo repetido",'2 Observaciones'!$C$5:$C$84,$A6)-_xlfn.MINIFS('2 Observaciones'!$D$5:$D$84,'2 Observaciones'!$B$5:$B$84,"Caso de un reclamo repetido",'2 Observaciones'!$C$5:$C$84,$A6)>=2,1,0))
A7: Retroalimentación y manejo de personas | B7: =IF(COUNTIFS('2 Observaciones'!$B$5:$B$84,"Bandeja de entrada del lunes",'2 Observaciones'!$C$5:$C$84,$A7)=0,"",AVERAGEIFS('2 Observaciones'!$D$5:$D$84,'2 Observaciones'!$B$5:$B$84,"Bandeja de entrada del lunes",'2 Observaciones'!$C$5:$C$84,$A7)) | C7: =IF(COUNTIFS('2 Observaciones'!$B$5:$B$84,"Conversación de retroalimentación",'2 Observaciones'!$C$5:$C$84,$A7)=0,"",AVERAGEIFS('2 Observaciones'!$D$5:$D$84,'2 Observaciones'!$B$5:$B$84,"Conversación de retroalimentación",'2 Observaciones'!$C$5:$C$84,$A7)) | D7: =IF(COUNTIFS('2 Observaciones'!$B$5:$B$84,"Reunión de arranque de turno",'2 Observaciones'!$C$5:$C$84,$A7)=0,"",AVERAGEIFS('2 Observaciones'!$D$5:$D$84,'2 Observaciones'!$B$5:$B$84,"Reunión de arranque de turno",'2 Observaciones'!$C$5:$C$84,$A7)) | E7: =IF(COUNTIFS('2 Observaciones'!$B$5:$B$84,"Caso de un reclamo repetido",'2 Observaciones'!$C$5:$C$84,$A7)=0,"",AVERAGEIFS('2 Observaciones'!$D$5:$D$84,'2 Observaciones'!$B$5:$B$84,"Caso de un reclamo repetido",'2 Observaciones'!$C$5:$C$84,$A7)) | F7: =IF(COUNT(B7:E7)=0,"",ROUND(AVERAGE(B7:E7),2)) | G7: =COUNT(B7:E7) | H7: =IF(COUNTIFS('2 Observaciones'!$B$5:$B$84,"Bandeja de entrada del lunes",'2 Observaciones'!$C$5:$C$84,$A7)=0,0,IF(_xlfn.MAXIFS('2 Observaciones'!$D$5:$D$84,'2 Observaciones'!$B$5:$B$84,"Bandeja de entrada del lunes",'2 Observaciones'!$C$5:$C$84,$A7)-_xlfn.MINIFS('2 Observaciones'!$D$5:$D$84,'2 Observaciones'!$B$5:$B$84,"Bandeja de entrada del lunes",'2 Observaciones'!$C$5:$C$84,$A7)>=2,1,0))+IF(COUNTIFS('2 Observaciones'!$B$5:$B$84,"Conversación de retroalimentación",'2 Observaciones'!$C$5:$C$84,$A7)=0,0,IF(_xlfn.MAXIFS('2 Observaciones'!$D$5:$D$84,'2 Observaciones'!$B$5:$B$84,"Conversación de retroalimentación",'2 Observaciones'!$C$5:$C$84,$A7)-_xlfn.MINIFS('2 Observaciones'!$D$5:$D$84,'2 Observaciones'!$B$5:$B$84,"Conversación de retroalimentación",'2 Observaciones'!$C$5:$C$84,$A7)>=2,1,0))+IF(COUNTIFS('2 Observaciones'!$B$5:$B$84,"Reunión de arranque de turno",'2 Observaciones'!$C$5:$C$84,$A7)=0,0,IF(_xlfn.MAXIFS('2 Observaciones'!$D$5:$D$84,'2 Observaciones'!$B$5:$B$84,"Reunión de arranque de turno",'2 Observaciones'!$C$5:$C$84,$A7)-_xlfn.MINIFS('2 Observaciones'!$D$5:$D$84,'2 Observaciones'!$B$5:$B$84,"Reunión de arranque de turno",'2 Observaciones'!$C$5:$C$84,$A7)>=2,1,0))+IF(COUNTIFS('2 Observaciones'!$B$5:$B$84,"Caso de un reclamo repetido",'2 Observaciones'!$C$5:$C$84,$A7)=0,0,IF(_xlfn.MAXIFS('2 Observaciones'!$D$5:$D$84,'2 Observaciones'!$B$5:$B$84,"Caso de un reclamo repetido",'2 Observaciones'!$C$5:$C$84,$A7)-_xlfn.MINIFS('2 Observaciones'!$D$5:$D$84,'2 Observaciones'!$B$5:$B$84,"Caso de un reclamo repetido",'2 Observaciones'!$C$5:$C$84,$A7)>=2,1,0))
A8: Comunicación | B8: =IF(COUNTIFS('2 Observaciones'!$B$5:$B$84,"Bandeja de entrada del lunes",'2 Observaciones'!$C$5:$C$84,$A8)=0,"",AVERAGEIFS('2 Observaciones'!$D$5:$D$84,'2 Observaciones'!$B$5:$B$84,"Bandeja de entrada del lunes",'2 Observaciones'!$C$5:$C$84,$A8)) | C8: =IF(COUNTIFS('2 Observaciones'!$B$5:$B$84,"Conversación de retroalimentación",'2 Observaciones'!$C$5:$C$84,$A8)=0,"",AVERAGEIFS('2 Observaciones'!$D$5:$D$84,'2 Observaciones'!$B$5:$B$84,"Conversación de retroalimentación",'2 Observaciones'!$C$5:$C$84,$A8)) | D8: =IF(COUNTIFS('2 Observaciones'!$B$5:$B$84,"Reunión de arranque de turno",'2 Observaciones'!$C$5:$C$84,$A8)=0,"",AVERAGEIFS('2 Observaciones'!$D$5:$D$84,'2 Observaciones'!$B$5:$B$84,"Reunión de arranque de turno",'2 Observaciones'!$C$5:$C$84,$A8)) | E8: =IF(COUNTIFS('2 Observaciones'!$B$5:$B$84,"Caso de un reclamo repetido",'2 Observaciones'!$C$5:$C$84,$A8)=0,"",AVERAGEIFS('2 Observaciones'!$D$5:$D$84,'2 Observaciones'!$B$5:$B$84,"Caso de un reclamo repetido",'2 Observaciones'!$C$5:$C$84,$A8)) | F8: =IF(COUNT(B8:E8)=0,"",ROUND(AVERAGE(B8:E8),2)) | G8: =COUNT(B8:E8) | H8: =IF(COUNTIFS('2 Observaciones'!$B$5:$B$84,"Bandeja de entrada del lunes",'2 Observaciones'!$C$5:$C$84,$A8)=0,0,IF(_xlfn.MAXIFS('2 Observaciones'!$D$5:$D$84,'2 Observaciones'!$B$5:$B$84,"Bandeja de entrada del lunes",'2 Observaciones'!$C$5:$C$84,$A8)-_xlfn.MINIFS('2 Observaciones'!$D$5:$D$84,'2 Observaciones'!$B$5:$B$84,"Bandeja de entrada del lunes",'2 Observaciones'!$C$5:$C$84,$A8)>=2,1,0))+IF(COUNTIFS('2 Observaciones'!$B$5:$B$84,"Conversación de retroalimentación",'2 Observaciones'!$C$5:$C$84,$A8)=0,0,IF(_xlfn.MAXIFS('2 Observaciones'!$D$5:$D$84,'2 Observaciones'!$B$5:$B$84,"Conversación de retroalimentación",'2 Observaciones'!$C$5:$C$84,$A8)-_xlfn.MINIFS('2 Observaciones'!$D$5:$D$84,'2 Observaciones'!$B$5:$B$84,"Conversación de retroalimentación",'2 Observaciones'!$C$5:$C$84,$A8)>=2,1,0))+IF(COUNTIFS('2 Observaciones'!$B$5:$B$84,"Reunión de arranque de turno",'2 Observaciones'!$C$5:$C$84,$A8)=0,0,IF(_xlfn.MAXIFS('2 Observaciones'!$D$5:$D$84,'2 Observaciones'!$B$5:$B$84,"Reunión de arranque de turno",'2 Observaciones'!$C$5:$C$84,$A8)-_xlfn.MINIFS('2 Observaciones'!$D$5:$D$84,'2 Observaciones'!$B$5:$B$84,"Reunión de arranque de turno",'2 Observaciones'!$C$5:$C$84,$A8)>=2,1,0))+IF(COUNTIFS('2 Observaciones'!$B$5:$B$84,"Caso de un reclamo repetido",'2 Observaciones'!$C$5:$C$84,$A8)=0,0,IF(_xlfn.MAXIFS('2 Observaciones'!$D$5:$D$84,'2 Observaciones'!$B$5:$B$84,"Caso de un reclamo repetido",'2 Observaciones'!$C$5:$C$84,$A8)-_xlfn.MINIFS('2 Observaciones'!$D$5:$D$84,'2 Observaciones'!$B$5:$B$84,"Caso de un reclamo repetido",'2 Observaciones'!$C$5:$C$84,$A8)>=2,1,0))

Sheet Instrucciones
A1: MATRIZ DE ASSESSMENT CENTER
A3: 1. Hoja 1: qué competencias observa cada ejercicio. El ejemplo es la batería para supervisor de turno de la guía.
A4: 2. Hoja 2: cada observador puntúa por separado, ANTES de hablar con los demás, con la escala de anclas y su evidencia.
A5: 3. Hoja 3: el promedio por competencia y las discrepancias se calculan solos. Una discrepancia se discute con la evidencia
A6: en la sesión de integración; no se resuelve promediando.
A8: Límites: los ejercicios y la escala son originales y no están validados. El resultado es un insumo para decidir junto con
A9: la entrevista y la trayectoria, no un veredicto. Informe la finalidad y pida el consentimiento de cada evaluado (D.L. 144).
A11: Plantilla de taglinesolucionessv.com. No sustituye la revisión de un profesional.
