Workbook

Sheet 1 Cuestionario
A1: CUESTIONARIO DE CLIMA LABORAL — PUNTO DE PARTIDA
A2: Preguntas originales de partida, no un instrumento validado. Adáptelas al lenguaje de su empresa y pruébelas con un grupo pequeño antes de aplicarlas.
A3: N.º | B3: Dimensión | C3: Pregunta
A4: 1 | B4: Liderazgo | C4: Mi jefatura me dice con claridad qué espera de mi trabajo.
A5: 2 | B5: Liderazgo | C5: Cuando cometo un error, mi jefatura me lo corrige en privado.
A6: 3 | B6: Liderazgo | C6: Mi jefatura cumple lo que promete.
A7: 4 | B7: Liderazgo | C7: Puedo plantear un problema a mi jefatura sin temor a represalias.
A8: 5 | B8: Liderazgo | C8: Mi jefatura trata a todas las personas del equipo con el mismo criterio.
A9: 6 | B9: Comunicación | C9: Me entero a tiempo de los cambios que afectan mi trabajo.
A10: 7 | B10: Comunicación | C10: Sé cómo le va a la empresa y a mi área.
A11: 8 | B11: Comunicación | C11: Recibo de otras áreas la información que necesito para hacer mi trabajo.
A12: 9 | B12: Comunicación | C12: Cuando doy una sugerencia, recibo una respuesta.
A13: 10 | B13: Comunicación | C13: Las instrucciones que recibo no se contradicen entre sí.
A14: 11 | B14: Reconocimiento | C14: Cuando hago un buen trabajo, alguien me lo dice.
A15: 12 | B15: Reconocimiento | C15: Mi salario es justo para el trabajo que hago, comparado con otros puestos de la empresa.
... A28: 25 | B28: Desarrollo | C28: Veo posibilidades de crecer en esta empresa.
A30: Escala: 1 Totalmente en desacuerdo · 2 En desacuerdo · 3 Ni de acuerdo ni en desacuerdo · 4 De acuerdo · 5 Totalmente de acuerdo
A31: Pregunta abierta 1: ¿Qué es lo que más le ayuda a hacer bien su trabajo aquí?
A32: Pregunta abierta 2: Si pudiera cambiar una sola cosa de su área, ¿cuál sería?

Sheet 2 Respuestas
A1: RESPUESTAS (una fila por persona, sin nombre)
A2: Código anónimo, área y respuestas de 1 a 5. Ejemplo demostrativo en cursiva: bórrelo antes de cargar sus datos. La última columna se calcula sola.
A5: Código | B5: Área | C5: P1 | D5: P2 | E5: P3 | F5: P4 | G5: P5 | H5: P6 | I5: P7 | J5: P8 | K5: P9 | L5: P10 | M5: P11 | N5: P12 | O5: P13 | P5: P14 | Q5: P15 | R5: P16 | S5: P17 | T5: P18 | U5: P19 | V5: P20 | W5: P21 | X5: P22 | Y5: P23 | Z5: P24 | AA5: P25 | AB5: Área para reportar
A6: R001 | B6: Ventas | C6: 4 | D6: 4 | E6: 3 | F6: 4 | G6: 5 | H6: 3 | I6: 4 | J6: 4 | K6: 2 | L6: 4 | M6: 2 | N6: 4 | O6: 5 | P6: 3 | Q6: 2 | R6: 4 | S6: 3 | T6: 3 | U6: 3 | V6: 4 | W6: 3 | X6: 4 | Y6: 3 | Z6: 4 | AA6: 2 | AB6: =IF(B6="","",IF(COUNTIF($B$6:$B$205,B6)<'3 Resultados'!$B$3,"Otras áreas",B6))
A7: R002 | B7: Ventas | C7: 4 | D7: 4 | E7: 5 | F7: 2 | G7: 4 | H7: 4 | I7: 3 | J7: 4 | K7: 3 | L7: 3 | M7: 1 | N7: 4 | O7: 2 | P7: 3 | Q7: 3 | R7: 4 | S7: 3 | T7: 4 | U7: 4 | V7: 2 | W7: 2 | X7: 4 | Y7: 5 | Z7: 2 | AA7: 3 | AB7: =IF(B7="","",IF(COUNTIF($B$6:$B$205,B7)<'3 Resultados'!$B$3,"Otras áreas",B7))
A8: R003 | B8: Ventas | C8: 4 | D8: 2 | E8: 4 | F8: 4 | G8: 4 | H8: 5 | I8: 4 | J8: 2 | K8: 2 | L8: 5 | M8: 2 | N8: 3 | O8: 3 | P8: 2 | Q8: 2 | R8: 3 | S8: 2 | T8: 2 | U8: 3 | V8: 4 | W8: 4 | X8: 2 | Y8: 5 | Z8: 3 | AA8: 3 | AB8: =IF(B8="","",IF(COUNTIF($B$6:$B$205,B8)<'3 Resultados'!$B$3,"Otras áreas",B8))
A9: R004 | B9: Ventas | C9: 4 | D9: 3 | E9: 5 | F9: 4 | G9: 4 | H9: 4 | I9: 1 | J9: 5 | K9: 4 | L9: 3 | M9: 3 | N9: 3 | O9: 3 | P9: 3 | Q9: 5 | R9: 3 | S9: 2 | T9: 3 | U9: 3 | V9: 4 | W9: 3 | X9: 4 | Y9: 3 | Z9: 5 | AA9: 4 | AB9: =IF(B9="","",IF(COUNTIF($B$6:$B$205,B9)<'3 Resultados'!$B$3,"Otras áreas",B9))
A10: R005 | B10: Ventas | C10: 2 | D10: 4 | E10: 4 | F10: 4 | G10: 3 | H10: 2 | I10: 4 | J10: 2 | K10: 4 | L10: 3 | M10: 3 | N10: 2 | O10: 2 | P10: 3 | Q10: 2 | R10: 2 | S10: 5 | T10: 2 | U10: 4 | V10: 3 | W10: 2 | X10: 4 | Y10: 3 | Z10: 4 | AA10: 4 | AB10: =IF(B10="","",IF(COUNTIF($B$6:$B$205,B10)<'3 Resultados'!$B$3,"Otras áreas",B10))
A11: R006 | B11: Ventas | C11: 3 | D11: 4 | E11: 3 | F11: 3 | G11: 4 | H11: 1 | I11: 3 | J11: 4 | K11: 3 | L11: 4 | M11: 3 | N11: 3 | O11: 3 | P11: 4 | Q11: 4 | R11: 4 | S11: 3 | T11: 4 | U11: 4 | V11: 4 | W11: 3 | X11: 4 | Y11: 4 | Z11: 2 | AA11: 3 | AB11: =IF(B11="","",IF(COUNTIF($B$6:$B$205,B11)<'3 Resultados'!$B$3,"Otras áreas",B11))
A12: R007 | B12: Ventas | C12: 3 | D12: 3 | E12: 4 | F12: 2 | G12: 4 | H12: 3 | I12: 5 | J12: 2 | K12: 4 | L12: 3 | M12: 3 | N12: 3 | O12: 2 | P12: 2 | Q12: 2 | R12: 5 | S12: 1 | T12: 3 | U12: 2 | V12: 2 | W12: 3 | X12: 1 | Y12: 4 | Z12: 2 | AA12: 4 | AB12: =IF(B12="","",IF(COUNTIF($B$6:$B$205,B12)<'3 Resultados'!$B$3,"Otras áreas",B12))
A13: R008 | B13: Operaciones | C13: 3 | D13: 2 | E13: 4 | F13: 2 | G13: 1 | H13: 4 | I13: 2 | J13: 5 | K13: 4 | L13: 3 | M13: 1 | N13: 2 | O13: 5 | P13: 2 | Q13: 4 | R13: 2 | S13: 3 | T13: 2 | U13: 4 | V13: 4 | W13: 4 | X13: 2 | Y13: 3 | Z13: 2 | AA13: 3 | AB13: =IF(B13="","",IF(COUNTIF($B$6:$B$205,B13)<'3 Resultados'!$B$3,"Otras áreas",B13))
A14: R009 | B14: Operaciones | C14: 3 | D14: 3 | E14: 3 | F14: 2 | G14: 3 | H14: 3 | I14: 3 | J14: 4 | K14: 5 | L14: 2 | M14: 3 | N14: 4 | O14: 2 | P14: 3 | Q14: 3 | R14: 3 | S14: 1 | T14: 5 | U14: 4 | V14: 5 | W14: 2 | X14: 3 | Y14: 3 | Z14: 3 | AA14: 5 | AB14: =IF(B14="","",IF(COUNTIF($B$6:$B$205,B14)<'3 Resultados'!$B$3,"Otras áreas",B14))
A15: R010 | B15: Operaciones | C15: 2 | D15: 2 | E15: 3 | F15: 2 | G15: 4 | H15: 2 | I15: 5 | J15: 3 | K15: 3 | L15: 2 | M15: 4 | N15: 5 | O15: 3 | P15: 3 | Q15: 4 | R15: 4 | S15: 3 | T15: 2 | U15: 4 | V15: 3 | W15: 2 | X15: 3 | Y15: 3 | Z15: 4 | AA15: 2 | AB15: =IF(B15="","",IF(COUNTIF($B$6:$B$205,B15)<'3 Resultados'!$B$3,"Otras áreas",B15))
A16: R011 | B16: Operaciones | C16: 2 | D16: 4 | E16: 3 | F16: 1 | G16: 3 | H16: 2 | I16: 2 | J16: 3 | K16: 2 | L16: 4 | M16: 3 | N16: 1 | O16: 3 | P16: 4 | Q16: 4 | R16: 1 | S16: 2 | T16: 4 | U16: 3 | V16: 2 | W16: 2 | X16: 3 | Y16: 3 | Z16: 4 | AA16: 2 | AB16: =IF(B16="","",IF(COUNTIF($B$6:$B$205,B16)<'3 Resultados'!$B$3,"Otras áreas",B16))
A17: R012 | B17: Operaciones | C17: 3 | D17: 4 | E17: 2 | F17: 2 | G17: 1 | H17: 2 | I17: 2 | J17: 2 | K17: 4 | L17: 2 | M17: 3 | N17: 5 | O17: 4 | P17: 4 | Q17: 2 | R17: 5 | S17: 2 | T17: 3 | U17: 3 | V17: 4 | W17: 4 | X17: 5 | Y17: 3 | Z17: 5 | AA17: 1 | AB17: =IF(B17="","",IF(COUNTIF($B$6:$B$205,B17)<'3 Resultados'!$B$3,"Otras áreas",B17))
... A27: R022 | B27: Logística | C27: 2 | D27: 3 | E27: 2 | F27: 4 | G27: 3 | H27: 2 | I27: 2 | J27: 3 | K27: 4 | L27: 3 | M27: 2 | N27: 3 | O27: 3 | P27: 5 | Q27: 4 | R27: 3 | S27: 5 | T27: 3 | U27: 3 | V27: 3 | W27: 3 | X27: 3 | Y27: 3 | Z27: 4 | AA27: 3 | AB27: =IF(B27="","",IF(COUNTIF($B$6:$B$205,B27)<'3 Resultados'!$B$3,"Otras áreas",B27))
AB28: =IF(B28="","",IF(COUNTIF($B$6:$B$205,B28)<'3 Resultados'!$B$3,"Otras áreas",B28))
AB29: =IF(B29="","",IF(COUNTIF($B$6:$B$205,B29)<'3 Resultados'!$B$3,"Otras áreas",B29))
AB30: =IF(B30="","",IF(COUNTIF($B$6:$B$205,B30)<'3 Resultados'!$B$3,"Otras áreas",B30))
AB31: =IF(B31="","",IF(COUNTIF($B$6:$B$205,B31)<'3 Resultados'!$B$3,"Otras áreas",B31))
AB32: =IF(B32="","",IF(COUNTIF($B$6:$B$205,B32)<'3 Resultados'!$B$3,"Otras áreas",B32))
AB33: =IF(B33="","",IF(COUNTIF($B$6:$B$205,B33)<'3 Resultados'!$B$3,"Otras áreas",B33))
AB34: =IF(B34="","",IF(COUNTIF($B$6:$B$205,B34)<'3 Resultados'!$B$3,"Otras áreas",B34))
AB35: =IF(B35="","",IF(COUNTIF($B$6:$B$205,B35)<'3 Resultados'!$B$3,"Otras áreas",B35))
AB36: =IF(B36="","",IF(COUNTIF($B$6:$B$205,B36)<'3 Resultados'!$B$3,"Otras áreas",B36))
AB37: =IF(B37="","",IF(COUNTIF($B$6:$B$205,B37)<'3 Resultados'!$B$3,"Otras áreas",B37))
AB38: =IF(B38="","",IF(COUNTIF($B$6:$B$205,B38)<'3 Resultados'!$B$3,"Otras áreas",B38))
AB39: =IF(B39="","",IF(COUNTIF($B$6:$B$205,B39)<'3 Resultados'!$B$3,"Otras áreas",B39))
... AB205: =IF(B205="","",IF(COUNTIF($B$6:$B$205,B205)<'3 Resultados'!$B$3,"Otras áreas",B205))

Sheet 3 Resultados
A1: % FAVORABLE POR DIMENSIÓN Y ÁREA (respuestas 4 y 5)
A2: Mínimo de respuestas para reportar un grupo en B3 (editable). Las áreas bajo el mínimo se suman en «Otras áreas»; si aun así no llega, no se reporta.
A3: Mínimo por grupo | B3: 5
A5: Dimensión | B5: Ventas | C5: Operaciones | D5: Otras áreas | F5: Total
A6: Respuestas | B6: =IF(B$5="","",COUNTIF('2 Respuestas'!$AB$6:$AB$205,B$5)) | C6: =IF(C$5="","",COUNTIF('2 Respuestas'!$AB$6:$AB$205,C$5)) | D6: =IF(D$5="","",COUNTIF('2 Respuestas'!$AB$6:$AB$205,D$5)) | E6: =IF(E$5="","",COUNTIF('2 Respuestas'!$AB$6:$AB$205,E$5)) | F6: =COUNTA('2 Respuestas'!$B$6:$B$205)
A7: Liderazgo | B7: =IF(B$5="","",IF(B$6<$B$3,"Grupo < mínimo",ROUND(100*SUMPRODUCT(('2 Respuestas'!$AB$6:$AB$205=B$5)*('2 Respuestas'!$C$6:$G$205>=4))/SUMPRODUCT(('2 Respuestas'!$AB$6:$AB$205=B$5)*('2 Respuestas'!$C$6:$G$205<>"")),1))) | C7: =IF(C$5="","",IF(C$6<$B$3,"Grupo < mínimo",ROUND(100*SUMPRODUCT(('2 Respuestas'!$AB$6:$AB$205=C$5)*('2 Respuestas'!$C$6:$G$205>=4))/SUMPRODUCT(('2 Respuestas'!$AB$6:$AB$205=C$5)*('2 Respuestas'!$C$6:$G$205<>"")),1))) | D7: =IF(D$5="","",IF(D$6<$B$3,"Grupo < mínimo",ROUND(100*SUMPRODUCT(('2 Respuestas'!$AB$6:$AB$205=D$5)*('2 Respuestas'!$C$6:$G$205>=4))/SUMPRODUCT(('2 Respuestas'!$AB$6:$AB$205=D$5)*('2 Respuestas'!$C$6:$G$205<>"")),1))) | E7: =IF(E$5="","",IF(E$6<$B$3,"Grupo < mínimo",ROUND(100*SUMPRODUCT(('2 Respuestas'!$AB$6:$AB$205=E$5)*('2 Respuestas'!$C$6:$G$205>=4))/SUMPRODUCT(('2 Respuestas'!$AB$6:$AB$205=E$5)*('2 Respuestas'!$C$6:$G$205<>"")),1))) | F7: =IF(F$5="","",IF(F$6<$B$3,"Grupo < mínimo",ROUND(100*SUMPRODUCT(--('2 Respuestas'!$C$6:$G$205>=4))/SUMPRODUCT(--('2 Respuestas'!$C$6:$G$205<>"")),1)))
A8: Comunicación | B8: =IF(B$5="","",IF(B$6<$B$3,"Grupo < mínimo",ROUND(100*SUMPRODUCT(('2 Respuestas'!$AB$6:$AB$205=B$5)*('2 Respuestas'!$H$6:$L$205>=4))/SUMPRODUCT(('2 Respuestas'!$AB$6:$AB$205=B$5)*('2 Respuestas'!$H$6:$L$205<>"")),1))) | C8: =IF(C$5="","",IF(C$6<$B$3,"Grupo < mínimo",ROUND(100*SUMPRODUCT(('2 Respuestas'!$AB$6:$AB$205=C$5)*('2 Respuestas'!$H$6:$L$205>=4))/SUMPRODUCT(('2 Respuestas'!$AB$6:$AB$205=C$5)*('2 Respuestas'!$H$6:$L$205<>"")),1))) | D8: =IF(D$5="","",IF(D$6<$B$3,"Grupo < mínimo",ROUND(100*SUMPRODUCT(('2 Respuestas'!$AB$6:$AB$205=D$5)*('2 Respuestas'!$H$6:$L$205>=4))/SUMPRODUCT(('2 Respuestas'!$AB$6:$AB$205=D$5)*('2 Respuestas'!$H$6:$L$205<>"")),1))) | E8: =IF(E$5="","",IF(E$6<$B$3,"Grupo < mínimo",ROUND(100*SUMPRODUCT(('2 Respuestas'!$AB$6:$AB$205=E$5)*('2 Respuestas'!$H$6:$L$205>=4))/SUMPRODUCT(('2 Respuestas'!$AB$6:$AB$205=E$5)*('2 Respuestas'!$H$6:$L$205<>"")),1))) | F8: =IF(F$5="","",IF(F$6<$B$3,"Grupo < mínimo",ROUND(100*SUMPRODUCT(--('2 Respuestas'!$H$6:$L$205>=4))/SUMPRODUCT(--('2 Respuestas'!$H$6:$L$205<>"")),1)))
A9: Reconocimiento | B9: =IF(B$5="","",IF(B$6<$B$3,"Grupo < mínimo",ROUND(100*SUMPRODUCT(('2 Respuestas'!$AB$6:$AB$205=B$5)*('2 Respuestas'!$M$6:$Q$205>=4))/SUMPRODUCT(('2 Respuestas'!$AB$6:$AB$205=B$5)*('2 Respuestas'!$M$6:$Q$205<>"")),1))) | C9: =IF(C$5="","",IF(C$6<$B$3,"Grupo < mínimo",ROUND(100*SUMPRODUCT(('2 Respuestas'!$AB$6:$AB$205=C$5)*('2 Respuestas'!$M$6:$Q$205>=4))/SUMPRODUCT(('2 Respuestas'!$AB$6:$AB$205=C$5)*('2 Respuestas'!$M$6:$Q$205<>"")),1))) | D9: =IF(D$5="","",IF(D$6<$B$3,"Grupo < mínimo",ROUND(100*SUMPRODUCT(('2 Respuestas'!$AB$6:$AB$205=D$5)*('2 Respuestas'!$M$6:$Q$205>=4))/SUMPRODUCT(('2 Respuestas'!$AB$6:$AB$205=D$5)*('2 Respuestas'!$M$6:$Q$205<>"")),1))) | E9: =IF(E$5="","",IF(E$6<$B$3,"Grupo < mínimo",ROUND(100*SUMPRODUCT(('2 Respuestas'!$AB$6:$AB$205=E$5)*('2 Respuestas'!$M$6:$Q$205>=4))/SUMPRODUCT(('2 Respuestas'!$AB$6:$AB$205=E$5)*('2 Respuestas'!$M$6:$Q$205<>"")),1))) | F9: =IF(F$5="","",IF(F$6<$B$3,"Grupo < mínimo",ROUND(100*SUMPRODUCT(--('2 Respuestas'!$M$6:$Q$205>=4))/SUMPRODUCT(--('2 Respuestas'!$M$6:$Q$205<>"")),1)))
A10: Carga de trabajo | B10: =IF(B$5="","",IF(B$6<$B$3,"Grupo < mínimo",ROUND(100*SUMPRODUCT(('2 Respuestas'!$AB$6:$AB$205=B$5)*('2 Respuestas'!$R$6:$V$205>=4))/SUMPRODUCT(('2 Respuestas'!$AB$6:$AB$205=B$5)*('2 Respuestas'!$R$6:$V$205<>"")),1))) | C10: =IF(C$5="","",IF(C$6<$B$3,"Grupo < mínimo",ROUND(100*SUMPRODUCT(('2 Respuestas'!$AB$6:$AB$205=C$5)*('2 Respuestas'!$R$6:$V$205>=4))/SUMPRODUCT(('2 Respuestas'!$AB$6:$AB$205=C$5)*('2 Respuestas'!$R$6:$V$205<>"")),1))) | D10: =IF(D$5="","",IF(D$6<$B$3,"Grupo < mínimo",ROUND(100*SUMPRODUCT(('2 Respuestas'!$AB$6:$AB$205=D$5)*('2 Respuestas'!$R$6:$V$205>=4))/SUMPRODUCT(('2 Respuestas'!$AB$6:$AB$205=D$5)*('2 Respuestas'!$R$6:$V$205<>"")),1))) | E10: =IF(E$5="","",IF(E$6<$B$3,"Grupo < mínimo",ROUND(100*SUMPRODUCT(('2 Respuestas'!$AB$6:$AB$205=E$5)*('2 Respuestas'!$R$6:$V$205>=4))/SUMPRODUCT(('2 Respuestas'!$AB$6:$AB$205=E$5)*('2 Respuestas'!$R$6:$V$205<>"")),1))) | F10: =IF(F$5="","",IF(F$6<$B$3,"Grupo < mínimo",ROUND(100*SUMPRODUCT(--('2 Respuestas'!$R$6:$V$205>=4))/SUMPRODUCT(--('2 Respuestas'!$R$6:$V$205<>"")),1)))
A11: Desarrollo | B11: =IF(B$5="","",IF(B$6<$B$3,"Grupo < mínimo",ROUND(100*SUMPRODUCT(('2 Respuestas'!$AB$6:$AB$205=B$5)*('2 Respuestas'!$W$6:$AA$205>=4))/SUMPRODUCT(('2 Respuestas'!$AB$6:$AB$205=B$5)*('2 Respuestas'!$W$6:$AA$205<>"")),1))) | C11: =IF(C$5="","",IF(C$6<$B$3,"Grupo < mínimo",ROUND(100*SUMPRODUCT(('2 Respuestas'!$AB$6:$AB$205=C$5)*('2 Respuestas'!$W$6:$AA$205>=4))/SUMPRODUCT(('2 Respuestas'!$AB$6:$AB$205=C$5)*('2 Respuestas'!$W$6:$AA$205<>"")),1))) | D11: =IF(D$5="","",IF(D$6<$B$3,"Grupo < mínimo",ROUND(100*SUMPRODUCT(('2 Respuestas'!$AB$6:$AB$205=D$5)*('2 Respuestas'!$W$6:$AA$205>=4))/SUMPRODUCT(('2 Respuestas'!$AB$6:$AB$205=D$5)*('2 Respuestas'!$W$6:$AA$205<>"")),1))) | E11: =IF(E$5="","",IF(E$6<$B$3,"Grupo < mínimo",ROUND(100*SUMPRODUCT(('2 Respuestas'!$AB$6:$AB$205=E$5)*('2 Respuestas'!$W$6:$AA$205>=4))/SUMPRODUCT(('2 Respuestas'!$AB$6:$AB$205=E$5)*('2 Respuestas'!$W$6:$AA$205<>"")),1))) | F11: =IF(F$5="","",IF(F$6<$B$3,"Grupo < mínimo",ROUND(100*SUMPRODUCT(--('2 Respuestas'!$W$6:$AA$205>=4))/SUMPRODUCT(--('2 Respuestas'!$W$6:$AA$205<>"")),1)))

Sheet 4 Por pregunta
A1: DISTRIBUCIÓN POR PREGUNTA, TOTAL DE LA EMPRESA (%)
A2: Favorable = 4 y 5; neutral = 3; desfavorable = 1 y 2.
A3: N.º | B3: Dimensión | C3: Pregunta | D3: Respuestas | E3: Favorable | F3: Neutral | G3: Desfavorable
A4: 1 | B4: Liderazgo | C4: Mi jefatura me dice con claridad qué espera de mi trabajo. | D4: =COUNT('2 Respuestas'!$C$6:$C$205) | E4: =IF(D4<'3 Resultados'!$B$3,"Grupo < mínimo",ROUND(100*COUNTIF('2 Respuestas'!$C$6:$C$205,">=4")/D4,1)) | F4: =IF(D4<'3 Resultados'!$B$3,"",ROUND(100*COUNTIF('2 Respuestas'!$C$6:$C$205,3)/D4,1)) | G4: =IF(D4<'3 Resultados'!$B$3,"",ROUND(100*COUNTIF('2 Respuestas'!$C$6:$C$205,"<=2")/D4,1))
A5: 2 | B5: Liderazgo | C5: Cuando cometo un error, mi jefatura me lo corrige en privado. | D5: =COUNT('2 Respuestas'!$D$6:$D$205) | E5: =IF(D5<'3 Resultados'!$B$3,"Grupo < mínimo",ROUND(100*COUNTIF('2 Respuestas'!$D$6:$D$205,">=4")/D5,1)) | F5: =IF(D5<'3 Resultados'!$B$3,"",ROUND(100*COUNTIF('2 Respuestas'!$D$6:$D$205,3)/D5,1)) | G5: =IF(D5<'3 Resultados'!$B$3,"",ROUND(100*COUNTIF('2 Respuestas'!$D$6:$D$205,"<=2")/D5,1))
A6: 3 | B6: Liderazgo | C6: Mi jefatura cumple lo que promete. | D6: =COUNT('2 Respuestas'!$E$6:$E$205) | E6: =IF(D6<'3 Resultados'!$B$3,"Grupo < mínimo",ROUND(100*COUNTIF('2 Respuestas'!$E$6:$E$205,">=4")/D6,1)) | F6: =IF(D6<'3 Resultados'!$B$3,"",ROUND(100*COUNTIF('2 Respuestas'!$E$6:$E$205,3)/D6,1)) | G6: =IF(D6<'3 Resultados'!$B$3,"",ROUND(100*COUNTIF('2 Respuestas'!$E$6:$E$205,"<=2")/D6,1))
A7: 4 | B7: Liderazgo | C7: Puedo plantear un problema a mi jefatura sin temor a represalias. | D7: =COUNT('2 Respuestas'!$F$6:$F$205) | E7: =IF(D7<'3 Resultados'!$B$3,"Grupo < mínimo",ROUND(100*COUNTIF('2 Respuestas'!$F$6:$F$205,">=4")/D7,1)) | F7: =IF(D7<'3 Resultados'!$B$3,"",ROUND(100*COUNTIF('2 Respuestas'!$F$6:$F$205,3)/D7,1)) | G7: =IF(D7<'3 Resultados'!$B$3,"",ROUND(100*COUNTIF('2 Respuestas'!$F$6:$F$205,"<=2")/D7,1))
A8: 5 | B8: Liderazgo | C8: Mi jefatura trata a todas las personas del equipo con el mismo criterio. | D8: =COUNT('2 Respuestas'!$G$6:$G$205) | E8: =IF(D8<'3 Resultados'!$B$3,"Grupo < mínimo",ROUND(100*COUNTIF('2 Respuestas'!$G$6:$G$205,">=4")/D8,1)) | F8: =IF(D8<'3 Resultados'!$B$3,"",ROUND(100*COUNTIF('2 Respuestas'!$G$6:$G$205,3)/D8,1)) | G8: =IF(D8<'3 Resultados'!$B$3,"",ROUND(100*COUNTIF('2 Respuestas'!$G$6:$G$205,"<=2")/D8,1))
A9: 6 | B9: Comunicación | C9: Me entero a tiempo de los cambios que afectan mi trabajo. | D9: =COUNT('2 Respuestas'!$H$6:$H$205) | E9: =IF(D9<'3 Resultados'!$B$3,"Grupo < mínimo",ROUND(100*COUNTIF('2 Respuestas'!$H$6:$H$205,">=4")/D9,1)) | F9: =IF(D9<'3 Resultados'!$B$3,"",ROUND(100*COUNTIF('2 Respuestas'!$H$6:$H$205,3)/D9,1)) | G9: =IF(D9<'3 Resultados'!$B$3,"",ROUND(100*COUNTIF('2 Respuestas'!$H$6:$H$205,"<=2")/D9,1))
A10: 7 | B10: Comunicación | C10: Sé cómo le va a la empresa y a mi área. | D10: =COUNT('2 Respuestas'!$I$6:$I$205) | E10: =IF(D10<'3 Resultados'!$B$3,"Grupo < mínimo",ROUND(100*COUNTIF('2 Respuestas'!$I$6:$I$205,">=4")/D10,1)) | F10: =IF(D10<'3 Resultados'!$B$3,"",ROUND(100*COUNTIF('2 Respuestas'!$I$6:$I$205,3)/D10,1)) | G10: =IF(D10<'3 Resultados'!$B$3,"",ROUND(100*COUNTIF('2 Respuestas'!$I$6:$I$205,"<=2")/D10,1))
A11: 8 | B11: Comunicación | C11: Recibo de otras áreas la información que necesito para hacer mi trabajo. | D11: =COUNT('2 Respuestas'!$J$6:$J$205) | E11: =IF(D11<'3 Resultados'!$B$3,"Grupo < mínimo",ROUND(100*COUNTIF('2 Respuestas'!$J$6:$J$205,">=4")/D11,1)) | F11: =IF(D11<'3 Resultados'!$B$3,"",ROUND(100*COUNTIF('2 Respuestas'!$J$6:$J$205,3)/D11,1)) | G11: =IF(D11<'3 Resultados'!$B$3,"",ROUND(100*COUNTIF('2 Respuestas'!$J$6:$J$205,"<=2")/D11,1))
A12: 9 | B12: Comunicación | C12: Cuando doy una sugerencia, recibo una respuesta. | D12: =COUNT('2 Respuestas'!$K$6:$K$205) | E12: =IF(D12<'3 Resultados'!$B$3,"Grupo < mínimo",ROUND(100*COUNTIF('2 Respuestas'!$K$6:$K$205,">=4")/D12,1)) | F12: =IF(D12<'3 Resultados'!$B$3,"",ROUND(100*COUNTIF('2 Respuestas'!$K$6:$K$205,3)/D12,1)) | G12: =IF(D12<'3 Resultados'!$B$3,"",ROUND(100*COUNTIF('2 Respuestas'!$K$6:$K$205,"<=2")/D12,1))
A13: 10 | B13: Comunicación | C13: Las instrucciones que recibo no se contradicen entre sí. | D13: =COUNT('2 Respuestas'!$L$6:$L$205) | E13: =IF(D13<'3 Resultados'!$B$3,"Grupo < mínimo",ROUND(100*COUNTIF('2 Respuestas'!$L$6:$L$205,">=4")/D13,1)) | F13: =IF(D13<'3 Resultados'!$B$3,"",ROUND(100*COUNTIF('2 Respuestas'!$L$6:$L$205,3)/D13,1)) | G13: =IF(D13<'3 Resultados'!$B$3,"",ROUND(100*COUNTIF('2 Respuestas'!$L$6:$L$205,"<=2")/D13,1))
A14: 11 | B14: Reconocimiento | C14: Cuando hago un buen trabajo, alguien me lo dice. | D14: =COUNT('2 Respuestas'!$M$6:$M$205) | E14: =IF(D14<'3 Resultados'!$B$3,"Grupo < mínimo",ROUND(100*COUNTIF('2 Respuestas'!$M$6:$M$205,">=4")/D14,1)) | F14: =IF(D14<'3 Resultados'!$B$3,"",ROUND(100*COUNTIF('2 Respuestas'!$M$6:$M$205,3)/D14,1)) | G14: =IF(D14<'3 Resultados'!$B$3,"",ROUND(100*COUNTIF('2 Respuestas'!$M$6:$M$205,"<=2")/D14,1))
A15: 12 | B15: Reconocimiento | C15: Mi salario es justo para el trabajo que hago, comparado con otros puestos de la empresa. | D15: =COUNT('2 Respuestas'!$N$6:$N$205) | E15: =IF(D15<'3 Resultados'!$B$3,"Grupo < mínimo",ROUND(100*COUNTIF('2 Respuestas'!$N$6:$N$205,">=4")/D15,1)) | F15: =IF(D15<'3 Resultados'!$B$3,"",ROUND(100*COUNTIF('2 Respuestas'!$N$6:$N$205,3)/D15,1)) | G15: =IF(D15<'3 Resultados'!$B$3,"",ROUND(100*COUNTIF('2 Respuestas'!$N$6:$N$205,"<=2")/D15,1))
A16: 13 | B16: Reconocimiento | C16: Los ascensos se dan a quienes los merecen. | D16: =COUNT('2 Respuestas'!$O$6:$O$205) | E16: =IF(D16<'3 Resultados'!$B$3,"Grupo < mínimo",ROUND(100*COUNTIF('2 Respuestas'!$O$6:$O$205,">=4")/D16,1)) | F16: =IF(D16<'3 Resultados'!$B$3,"",ROUND(100*COUNTIF('2 Respuestas'!$O$6:$O$205,3)/D16,1)) | G16: =IF(D16<'3 Resultados'!$B$3,"",ROUND(100*COUNTIF('2 Respuestas'!$O$6:$O$205,"<=2")/D16,1))
A17: 14 | B17: Reconocimiento | C17: Las reglas para recibir bonificaciones o comisiones son claras. | D17: =COUNT('2 Respuestas'!$P$6:$P$205) | E17: =IF(D17<'3 Resultados'!$B$3,"Grupo < mínimo",ROUND(100*COUNTIF('2 Respuestas'!$P$6:$P$205,">=4")/D17,1)) | F17: =IF(D17<'3 Resultados'!$B$3,"",ROUND(100*COUNTIF('2 Respuestas'!$P$6:$P$205,3)/D17,1)) | G17: =IF(D17<'3 Resultados'!$B$3,"",ROUND(100*COUNTIF('2 Respuestas'!$P$6:$P$205,"<=2")/D17,1))
A18: 15 | B18: Reconocimiento | C18: Mi trabajo es tomado en cuenta en las decisiones del área. | D18: =COUNT('2 Respuestas'!$Q$6:$Q$205) | E18: =IF(D18<'3 Resultados'!$B$3,"Grupo < mínimo",ROUND(100*COUNTIF('2 Respuestas'!$Q$6:$Q$205,">=4")/D18,1)) | F18: =IF(D18<'3 Resultados'!$B$3,"",ROUND(100*COUNTIF('2 Respuestas'!$Q$6:$Q$205,3)/D18,1)) | G18: =IF(D18<'3 Resultados'!$B$3,"",ROUND(100*COUNTIF('2 Respuestas'!$Q$6:$Q$205,"<=2")/D18,1))
A19: 16 | B19: Carga de trabajo | C19: Puedo terminar mi trabajo dentro de la jornada la mayoría de los días. | D19: =COUNT('2 Respuestas'!$R$6:$R$205) | E19: =IF(D19<'3 Resultados'!$B$3,"Grupo < mínimo",ROUND(100*COUNTIF('2 Respuestas'!$R$6:$R$205,">=4")/D19,1)) | F19: =IF(D19<'3 Resultados'!$B$3,"",ROUND(100*COUNTIF('2 Respuestas'!$R$6:$R$205,3)/D19,1)) | G19: =IF(D19<'3 Resultados'!$B$3,"",ROUND(100*COUNTIF('2 Respuestas'!$R$6:$R$205,"<=2")/D19,1))
A20: 17 | B20: Carga de trabajo | C20: Las horas extra son la excepción, no la regla. | D20: =COUNT('2 Respuestas'!$S$6:$S$205) | E20: =IF(D20<'3 Resultados'!$B$3,"Grupo < mínimo",ROUND(100*COUNTIF('2 Respuestas'!$S$6:$S$205,">=4")/D20,1)) | F20: =IF(D20<'3 Resultados'!$B$3,"",ROUND(100*COUNTIF('2 Respuestas'!$S$6:$S$205,3)/D20,1)) | G20: =IF(D20<'3 Resultados'!$B$3,"",ROUND(100*COUNTIF('2 Respuestas'!$S$6:$S$205,"<=2")/D20,1))
A21: 18 | B21: Carga de trabajo | C21: Tengo las herramientas y los materiales que necesito para hacer mi trabajo. | D21: =COUNT('2 Respuestas'!$T$6:$T$205) | E21: =IF(D21<'3 Resultados'!$B$3,"Grupo < mínimo",ROUND(100*COUNTIF('2 Respuestas'!$T$6:$T$205,">=4")/D21,1)) | F21: =IF(D21<'3 Resultados'!$B$3,"",ROUND(100*COUNTIF('2 Respuestas'!$T$6:$T$205,3)/D21,1)) | G21: =IF(D21<'3 Resultados'!$B$3,"",ROUND(100*COUNTIF('2 Respuestas'!$T$6:$T$205,"<=2")/D21,1))
A22: 19 | B22: Carga de trabajo | C22: La carga de trabajo está repartida de forma equilibrada en mi equipo. | D22: =COUNT('2 Respuestas'!$U$6:$U$205) | E22: =IF(D22<'3 Resultados'!$B$3,"Grupo < mínimo",ROUND(100*COUNTIF('2 Respuestas'!$U$6:$U$205,">=4")/D22,1)) | F22: =IF(D22<'3 Resultados'!$B$3,"",ROUND(100*COUNTIF('2 Respuestas'!$U$6:$U$205,3)/D22,1)) | G22: =IF(D22<'3 Resultados'!$B$3,"",ROUND(100*COUNTIF('2 Respuestas'!$U$6:$U$205,"<=2")/D22,1))
A23: 20 | B23: Carga de trabajo | C23: Puedo tomar mis descansos y vacaciones sin que el trabajo se acumule. | D23: =COUNT('2 Respuestas'!$V$6:$V$205) | E23: =IF(D23<'3 Resultados'!$B$3,"Grupo < mínimo",ROUND(100*COUNTIF('2 Respuestas'!$V$6:$V$205,">=4")/D23,1)) | F23: =IF(D23<'3 Resultados'!$B$3,"",ROUND(100*COUNTIF('2 Respuestas'!$V$6:$V$205,3)/D23,1)) | G23: =IF(D23<'3 Resultados'!$B$3,"",ROUND(100*COUNTIF('2 Respuestas'!$V$6:$V$205,"<=2")/D23,1))
A24: 21 | B24: Desarrollo | C24: En el último año aprendí algo útil para mi trabajo. | D24: =COUNT('2 Respuestas'!$W$6:$W$205) | E24: =IF(D24<'3 Resultados'!$B$3,"Grupo < mínimo",ROUND(100*COUNTIF('2 Respuestas'!$W$6:$W$205,">=4")/D24,1)) | F24: =IF(D24<'3 Resultados'!$B$3,"",ROUND(100*COUNTIF('2 Respuestas'!$W$6:$W$205,3)/D24,1)) | G24: =IF(D24<'3 Resultados'!$B$3,"",ROUND(100*COUNTIF('2 Respuestas'!$W$6:$W$205,"<=2")/D24,1))
A25: 22 | B25: Desarrollo | C25: Sé qué tendría que mejorar para crecer en la empresa. | D25: =COUNT('2 Respuestas'!$X$6:$X$205) | E25: =IF(D25<'3 Resultados'!$B$3,"Grupo < mínimo",ROUND(100*COUNTIF('2 Respuestas'!$X$6:$X$205,">=4")/D25,1)) | F25: =IF(D25<'3 Resultados'!$B$3,"",ROUND(100*COUNTIF('2 Respuestas'!$X$6:$X$205,3)/D25,1)) | G25: =IF(D25<'3 Resultados'!$B$3,"",ROUND(100*COUNTIF('2 Respuestas'!$X$6:$X$205,"<=2")/D25,1))
A26: 23 | B26: Desarrollo | C26: La empresa me da oportunidades de capacitación relacionadas con mi puesto. | D26: =COUNT('2 Respuestas'!$Y$6:$Y$205) | E26: =IF(D26<'3 Resultados'!$B$3,"Grupo < mínimo",ROUND(100*COUNTIF('2 Respuestas'!$Y$6:$Y$205,">=4")/D26,1)) | F26: =IF(D26<'3 Resultados'!$B$3,"",ROUND(100*COUNTIF('2 Respuestas'!$Y$6:$Y$205,3)/D26,1)) | G26: =IF(D26<'3 Resultados'!$B$3,"",ROUND(100*COUNTIF('2 Respuestas'!$Y$6:$Y$205,"<=2")/D26,1))
A27: 24 | B27: Desarrollo | C27: Recibo comentarios sobre mi desempeño al menos una vez al año. | D27: =COUNT('2 Respuestas'!$Z$6:$Z$205) | E27: =IF(D27<'3 Resultados'!$B$3,"Grupo < mínimo",ROUND(100*COUNTIF('2 Respuestas'!$Z$6:$Z$205,">=4")/D27,1)) | F27: =IF(D27<'3 Resultados'!$B$3,"",ROUND(100*COUNTIF('2 Respuestas'!$Z$6:$Z$205,3)/D27,1)) | G27: =IF(D27<'3 Resultados'!$B$3,"",ROUND(100*COUNTIF('2 Respuestas'!$Z$6:$Z$205,"<=2")/D27,1))
A28: 25 | B28: Desarrollo | C28: Veo posibilidades de crecer en esta empresa. | D28: =COUNT('2 Respuestas'!$AA$6:$AA$205) | E28: =IF(D28<'3 Resultados'!$B$3,"Grupo < mínimo",ROUND(100*COUNTIF('2 Respuestas'!$AA$6:$AA$205,">=4")/D28,1)) | F28: =IF(D28<'3 Resultados'!$B$3,"",ROUND(100*COUNTIF('2 Respuestas'!$AA$6:$AA$205,3)/D28,1)) | G28: =IF(D28<'3 Resultados'!$B$3,"",ROUND(100*COUNTIF('2 Respuestas'!$AA$6:$AA$205,"<=2")/D28,1))

Sheet Instrucciones
A1: ENCUESTA DE CLIMA LABORAL — CÓMO USAR ESTA PLANTILLA
A3: 1. Antes de abrir la encuesta: comunique para qué se hace, la fecha de cierre, que es anónima y el mínimo de respuestas por grupo (hoja 3, celda B3).
A4: 2. No pida nombre, edad, sexo ni antigüedad exacta: con pocas personas por área, cualquiera de esos datos identifica a alguien.
A5: 3. Cargue una fila por persona en la hoja 2: código, área y respuestas de 1 a 5. Escriba las áreas siempre igual.
A6: 4. Las áreas con menos respuestas que el mínimo se suman en «Otras áreas»: si se suprimiera una sola, su resultado se deduciría restando las demás del total.
A7: 5. Escriba en la fila 5 de la hoja 3 los nombres de las áreas que quiere ver (deje «Otras áreas»).
A8: 6. Las preguntas abiertas se transcriben aparte, quitando nombres y detalles que permitan saber quién escribió.
A10: Cómo leer: compare cada área con el total de la empresa y con la medición anterior. Con grupos pequeños, una persona mueve el porcentaje varios puntos.
A11: Busque dentro de cada dimensión la pregunta con más respuestas desfavorables: ahí suele estar la acción concreta.
A12: Límites: no es un instrumento validado ni tiene baremos externos. No diagnostica casos individuales ni sustituye la investigación de una denuncia.
A14: Plantilla de taglinesolucionessv.com. No sustituye la revisión de un profesional.
